BEGIN:VCALENDAR
VERSION:2.0
PRODID:-//eventon.com NONSGML v1.0//EN
CALSCALE:GREGORIAN
METHOD:PUBLISH
BEGIN:VEVENT
UID:69e762b935cfc
DTSTAMP:20260421T114249Z
DTSTART:20250713T204500Z
DTEND:20250713T235900Z
LOCATION:
SUMMARY:Bal - feu d'artifice annulé
DESCRIPTION:Bal maintenu avec les groupes Cooky et Dixit. Buvette sur place
  tenue par l’association Sud Estuaire Boxe Attention ! Annulation du feu 
 d'artifice prévu initialement le 13 juillet. La Loire-Atlantique a été p
 lacée en risque de feu de forêt élevé. En raison d’un arrêté préfe
 ctoral interdisant les spectacles pyrotechniques situés[..]\nhttps://loffi
 cieldepaimboeuf.com/events/bal-et-feu-dartifice-du-14-juillet/
URL:https://lofficieldepaimboeuf.com/events/bal-et-feu-dartifice-du-14-juillet/
END:VEVENT
END:VCALENDAR