BEGIN:VCALENDAR
VERSION:2.0
PRODID:-//eventon.com NONSGML v1.0//EN
CALSCALE:GREGORIAN
METHOD:PUBLISH
BEGIN:VEVENT
UID:69e762a0c9094
DTSTAMP:20260421T114224Z
DTSTART:20250704
DTEND:20250705
LOCATION:
SUMMARY:Les Tournesols
DESCRIPTION:Le Hangar rouvre ses portes pour la saison estivale.Après Les 
 Chaises et Une Île\,  l’exposition Les Tournesols marquera le troisième
  temps du projet 3 à l’atelier\,  une effraction qui a la particularité
  de mettre en dialogue la pratique de deux plasticiens\,  Jean-Claude Chupi
 n et Stéphane Tellier\,  et d’un écrivain\,  Jean-Pierre[..]\nhttps://l
 officieldepaimboeuf.com/events/exposition-dete-au-hangar/
URL:https://lofficieldepaimboeuf.com/events/exposition-dete-au-hangar/
END:VEVENT
END:VCALENDAR