BEGIN:VCALENDAR
VERSION:2.0
PRODID:-//eventon.com NONSGML v1.0//EN
CALSCALE:GREGORIAN
METHOD:PUBLISH
BEGIN:VEVENT
UID:69e76302bce20
DTSTAMP:20260421T114402Z
DTSTART:20250621T190000Z
DTEND:20250621T213000Z
LOCATION:
SUMMARY:Échos du monde
DESCRIPTION:À l'occasion de la Fête de la Musique 2025\,  le Chœur de fe
 mmes de l'École Intercommunale de Musique Sud-Estuaire\,  dirigé par Ana 
 Villamayor\,  partagera la scène avec l'ensemble d'accordéons d'Irina Cha
 pron. Ensemble\,  ils vous inviteront à un voyage musical à travers une d
 iversité de styles et de langues\,  de la[..]\nhttps://lofficieldepaimboeu
 f.com/events/concert-du-choeur-des-femmes-de-lecole-de-musique/
URL:https://lofficieldepaimboeuf.com/events/concert-du-choeur-des-femmes-de-lecole-de-musique/
END:VEVENT
END:VCALENDAR