BEGIN:VCALENDAR
VERSION:2.0
PRODID:-//eventon.com NONSGML v1.0//EN
CALSCALE:GREGORIAN
METHOD:PUBLISH
BEGIN:VEVENT
UID:69e762512cebd
DTSTAMP:20260421T114105Z
DTSTART:20250621T203000Z
DTEND:20250621T233000Z
LOCATION:
SUMMARY:Fête de la Musique
DESCRIPTION:• 16h15 – 17h : Batucada Tabass’co• 17h – 18h : Les G
 ens d’en Face• 18h – 18h15 : Margot• 18h15 – 18h30 : Les Résonne
 urs• 18h30 – 19h : J’danse• 19h – 20h15 : Big Band• 20h15 – 2
 0h45 : Cooky• 20h45 – 22h : La Flem• 22h –[..]\nhttps://lofficielde
 paimboeuf.com/events/fete-de-la-musique/
URL:https://lofficieldepaimboeuf.com/events/fete-de-la-musique/
END:VEVENT
END:VCALENDAR