BEGIN:VCALENDAR
VERSION:2.0
PRODID:-//eventon.com NONSGML v1.0//EN
CALSCALE:GREGORIAN
METHOD:PUBLISH
BEGIN:VEVENT
UID:69e762b8635f3
DTSTAMP:20260421T114248Z
DTSTART:20250426
DTEND:20250427
LOCATION:
SUMMARY:Molkky
DESCRIPTION:Molkky\nhttps://lofficieldepaimboeuf.com/events/tournoi-de-molk
 ky/
URL:https://lofficieldepaimboeuf.com/events/tournoi-de-molkky/
END:VEVENT
END:VCALENDAR