BEGIN:VCALENDAR
VERSION:2.0
PRODID:-//eventon.com NONSGML v1.0//EN
CALSCALE:GREGORIAN
METHOD:PUBLISH
BEGIN:VEVENT
UID:69e762a000f59
DTSTAMP:20260421T114224Z
DTSTART:20250419T093000Z
DTEND:20250419T120000Z
LOCATION:
SUMMARY:Chasse aux œufs
DESCRIPTION:Chasse aux œufs\nhttps://lofficieldepaimboeuf.com/events/chass
 e-aux-oeufs-ecocotte/
URL:https://lofficieldepaimboeuf.com/events/chasse-aux-oeufs-ecocotte/
END:VEVENT
END:VCALENDAR