BEGIN:VCALENDAR
VERSION:2.0
PRODID:-//eventon.com NONSGML v1.0//EN
CALSCALE:GREGORIAN
METHOD:PUBLISH
BEGIN:VEVENT
UID:69e762fb631fd
DTSTAMP:20260421T114355Z
DTSTART:20250409T134500Z
DTEND:20250409T163000Z
LOCATION:
SUMMARY:Graines & compost
DESCRIPTION:Distribution de graines de pieds de murs et de compostRÃ©servÃ©
  aux habitantâ€¢es de PaimbÅ“ufUne distribution de sachet de graines sera Ã
 ©galement assurÃ©e du 14 au 30 avril Ã  lâ€™accueil de la mairie sur les ho
 raires dâ€™ouverture du guichet pour les Paimblotinâ€¢es nâ€™ayant pu se dÃ
 ©placer le mercredi.\nhttps://lofficieldepaimboeuf.com/events/distribution-
 de-graines-de-pieds-de-murs-et-de-compost/
URL:https://lofficieldepaimboeuf.com/events/distribution-de-graines-de-pieds-de-murs-et-de-compost/
END:VEVENT
END:VCALENDAR