BEGIN:VCALENDAR
VERSION:2.0
PRODID:-//eventon.com NONSGML v1.0//EN
CALSCALE:GREGORIAN
METHOD:PUBLISH
BEGIN:VEVENT
UID:69e7621ff3fa9
DTSTAMP:20260421T114015Z
DTSTART:20250406T100000Z
DTEND:20250406T150000Z
LOCATION:
SUMMARY:Bourse aux plantes
DESCRIPTION:Bourse aux plantes\nhttps://lofficieldepaimboeuf.com/events/bou
 rse-aux-plantes/
URL:https://lofficieldepaimboeuf.com/events/bourse-aux-plantes/
END:VEVENT
END:VCALENDAR