BEGIN:VCALENDAR
VERSION:2.0
PRODID:-//eventon.com NONSGML v1.0//EN
CALSCALE:GREGORIAN
METHOD:PUBLISH
BEGIN:VEVENT
UID:69e7622115f5b
DTSTAMP:20260421T114017Z
DTSTART:20250305T140000Z
DTEND:20250305T225000Z
LOCATION:
SUMMARY:L'heure du conte
DESCRIPTION:La gente ailée vous souhaite une belle et heureuse annéeLe mo
 ineau d'un conte japonais et une poule peu ordinaire sont au programme. À 
 suivre\,  des origamis. Entrée libre. Contact : 02.28.53.47.66.\nhttps://l
 officieldepaimboeuf.com/events/lheure-du-conte-2/
URL:https://lofficieldepaimboeuf.com/events/lheure-du-conte-2/
END:VEVENT
END:VCALENDAR