BEGIN:VCALENDAR
VERSION:2.0
PRODID:-//eventon.com NONSGML v1.0//EN
CALSCALE:GREGORIAN
METHOD:PUBLISH
BEGIN:VEVENT
UID:69e76324d5285
DTSTAMP:20260421T114436Z
DTSTART:20250602
DTEND:20250603
LOCATION:
SUMMARY:Hydrograaf
DESCRIPTION:Escale technique : bateau à quai non ouvert aux visites mais p
 ossibilité de l'admirer depuis les quais et le ponton. Ancien navire hydro
 graphique de la Marine royale néerlandaise\,  l’Hydrograaf a une riche h
 istoire maritime. Construit de 1909 à 1910 à Rotterdam\,  il sert la rein
 e Wilhelmine et la famille royale.[..]\nhttps://lofficieldepaimboeuf.com/ev
 ents/hydrograaf/
URL:https://lofficieldepaimboeuf.com/events/hydrograaf/
END:VEVENT
END:VCALENDAR