BEGIN:VCALENDAR
VERSION:2.0
PRODID:-//eventon.com NONSGML v1.0//EN
CALSCALE:GREGORIAN
METHOD:PUBLISH
BEGIN:VEVENT
UID:69e7629fc57ae
DTSTAMP:20260421T114223Z
DTSTART:20250307T203000Z
DTEND:20250307T220000Z
LOCATION:
SUMMARY:Match d'impro
DESCRIPTION:Match d'impro\nhttps://lofficieldepaimboeuf.com/events/match-di
 mpro/
URL:https://lofficieldepaimboeuf.com/events/match-dimpro/
END:VEVENT
END:VCALENDAR