BEGIN:VCALENDAR
VERSION:2.0
PRODID:-//eventon.com NONSGML v1.0//EN
CALSCALE:GREGORIAN
METHOD:PUBLISH
BEGIN:VEVENT
UID:69e795d7dc8c8
DTSTAMP:20260421T152055Z
DTSTART:20250612T203000Z
DTEND:20250612T220000Z
LOCATION:
SUMMARY:Selen Peacock
DESCRIPTION:Selen Peacock brouille les pistes. Après trois albums à mi-c
 hemin entre pop indépendante et jazz cosmique\,  ils écrivent à quatre u
 ne musique élastique rappelant Tortoise. La répétition systématique est
  déjouée au profit d'une circulation de grooves et de riffs dephasés. Le
 s textes incrédules\,  absorbant le paradoxal et le contradictoire côtoie
 nt le[..]\nhttps://lofficieldepaimboeuf.com/events/selen-peacock/
URL:https://lofficieldepaimboeuf.com/events/selen-peacock/
END:VEVENT
END:VCALENDAR