BEGIN:VCALENDAR
VERSION:2.0
PRODID:-//eventon.com NONSGML v1.0//EN
CALSCALE:GREGORIAN
METHOD:PUBLISH
BEGIN:VEVENT
UID:69e76298e459f
DTSTAMP:20260421T114216Z
DTSTART:20250325T203000Z
DTEND:20250325T220000Z
LOCATION:
SUMMARY:Le cinÃ©ma d'animation de LÃ©o Marchand et Anne-Laure Daffis
DESCRIPTION:ClÃ´ture de la FÃªte du Court Projection-rencontre avec LÃ©o Ma
 rchand Ã€ partir de 10 ans C'est la tradition depuis quelques annÃ©es maint
 enant\,  La Boite CarrÃ©e clÃ´ture La FÃªte du court par une sÃ©ance dÃ©diÃ
 ©e au cinÃ©ma d'animation. Â En 2025\,  elle invite le rÃ©alisateur LÃ©o Ma
 rchand pour une projection-rencontre. La Saint-Festin\, [..]\nhttps://loffi
 cieldepaimboeuf.com/events/le-cinema-danimation-de-leo-marchand-et-anne-lau
 re-daffis-en-presence-de-leo-marchand/
URL:https://lofficieldepaimboeuf.com/events/le-cinema-danimation-de-leo-marchand-et-anne-laure-daffis-en-presence-de-leo-marchand/
END:VEVENT
END:VCALENDAR