BEGIN:VCALENDAR
VERSION:2.0
PRODID:-//eventon.com NONSGML v1.0//EN
CALSCALE:GREGORIAN
METHOD:PUBLISH
BEGIN:VEVENT
UID:69e762c13635d
DTSTAMP:20260421T114257Z
DTSTART:20250322T111500Z
DTEND:20250322T123000Z
LOCATION:
SUMMARY:Goldorak\,  Capitaine Flam et Albator
DESCRIPTION:LA FÊTE DU COURT: GÉNÉRATION ANIMES JAPONAIS - À partir de 
 8 ans - 1h163 titres pour découvrir ou redécouvrir à n'importe quel âge
  les premiers épisodes des dessins animés japonais mythiques des années 
 70. Une véritable machine à remonter le temps ! GRENDIZER (GOLDORAK) De 
 Tomoharu Katsumata - 1976 -[..]\nhttps://lofficieldepaimboeuf.com/events/go
 ldorak-capitaine-flam-et-albator/
URL:https://lofficieldepaimboeuf.com/events/goldorak-capitaine-flam-et-albator/
END:VEVENT
END:VCALENDAR