BEGIN:VCALENDAR
VERSION:2.0
PRODID:-//eventon.com NONSGML v1.0//EN
CALSCALE:GREGORIAN
METHOD:PUBLISH
BEGIN:VEVENT
UID:69e762a066d3f
DTSTAMP:20260421T114224Z
DTSTART:20250322T143000Z
DTEND:20250322T160000Z
LOCATION:
SUMMARY:Séances Jeune public
DESCRIPTION:PROGRAMME QUI MANGE QUOI? À partir de 3 ans - 30 min L'OURS QU
 I AVALA UNE MOUCHE De Pascale Hecquet - 2020 - 00:07:24 - France\,  Belgiq
 ue - Animation Un ours dort tranquillement dans la forêt quand il avale u
 ne mouche. Celle-ci bourdonne dans son ventre. C’est insupportable ! Sur 
 les conseils[..]\nhttps://lofficieldepaimboeuf.com/events/seances-jeune-pub
 lic/
URL:https://lofficieldepaimboeuf.com/events/seances-jeune-public/
END:VEVENT
END:VCALENDAR