BEGIN:VCALENDAR
VERSION:2.0
PRODID:-//eventon.com NONSGML v1.0//EN
CALSCALE:GREGORIAN
METHOD:PUBLISH
BEGIN:VEVENT
UID:69e796379d0eb
DTSTAMP:20260421T152231Z
DTSTART:20250322T203000Z
DTEND:20250322T214500Z
LOCATION:
SUMMARY:La sÃ©ance de Lou et Manon
DESCRIPTION:LE GOÃ›T DES AUTRESChaque annÃ©e\,  les partenaires de La FÃªte
  du court visionnent des programmes pour en extraire une sÃ©lection coup de
  cÅ“ur ou sur-mesure pour leurs publics. En 2025\,  le catalogue compte 160
  courts mÃ©trages. Ces sÃ©ances donnent un aperÃ§u du potentiel crÃ©atif dâ
 €™une programmation! Une programmation proposÃ©e par[..]\nhttps://lofficiel
 depaimboeuf.com/events/la-seance-programmee-par-lou-et-manon-en-plein-air/
URL:https://lofficieldepaimboeuf.com/events/la-seance-programmee-par-lou-et-manon-en-plein-air/
END:VEVENT
END:VCALENDAR