BEGIN:VCALENDAR
VERSION:2.0
PRODID:-//eventon.com NONSGML v1.0//EN
CALSCALE:GREGORIAN
METHOD:PUBLISH
BEGIN:VEVENT
UID:69e79587c7906
DTSTAMP:20260421T151935Z
DTSTART:20250321T190000Z
DTEND:20250321T210000Z
LOCATION:
SUMMARY:PROJECTION-RENCONTRE: VOYAGE\,  VOYAGE
DESCRIPTION:À partir de 12 ans - 1h30Éloge de l’évasion autour de deux
  films courts : On ne le regrettera jamais\,  en présence de la réalisatr
 ice Cécile Jarsaillon\,  et Petit Spartacus\,  en présence de la réalisa
 trice Sara Ganem\,  Talent de La Fête du court métrage 2025. ON NE LE REG
 RETTERA JAMAISCécile[..]\nhttps://lofficieldepaimboeuf.com/events/projecti
 on-rencontre-voyage-voyage/
URL:https://lofficieldepaimboeuf.com/events/projection-rencontre-voyage-voyage/
END:VEVENT
END:VCALENDAR