BEGIN:VCALENDAR
VERSION:2.0
PRODID:-//eventon.com NONSGML v1.0//EN
CALSCALE:GREGORIAN
METHOD:PUBLISH
BEGIN:VEVENT
UID:69e762b861911
DTSTAMP:20260421T114248Z
DTSTART:20250319
DTEND:20250320
LOCATION:
SUMMARY:Ateliers cinéma d'animation au banc-titre
DESCRIPTION:À partir de 8 ans\,  et aussi pour les grands! Un banc-titre e
 st constitué d’une colonne soutenant une caméra permettant de capturer\
 ,  image par image\,  des objets ou des dessins animés sous l’appareil d
 e prise de vue. Ouvert à tous.tes\,  cet atelier permet de découvrir les 
 multiples techniques du cinéma[..]\nhttps://lofficieldepaimboeuf.com/event
 s/ateliers-cinema-danimation-au-banc-titre/
URL:https://lofficieldepaimboeuf.com/events/ateliers-cinema-danimation-au-banc-titre/
END:VEVENT
END:VCALENDAR