BEGIN:VCALENDAR
VERSION:2.0
PRODID:-//eventon.com NONSGML v1.0//EN
CALSCALE:GREGORIAN
METHOD:PUBLISH
BEGIN:VEVENT
UID:69e762fabd009
DTSTAMP:20260421T114354Z
DTSTART:20250606T203000Z
DTEND:20250606T220000Z
LOCATION:
SUMMARY:Foncedalle
DESCRIPTION:Foncedalle est un trio amplifié à haut volume\,  une vague ch
 aude aux guitares acides\,  boostée aux basses addictives et nourrie aux b
 eats électroniques. Fin 2021 sort Traboule EP grâce auquel le groupe effe
 ctuera une centaine de concert entre 2022 et 2024.Leur premier album ép
 onyme sort en mars 2024 sur Exag’ Records (BE). Il[..]\nhttps://lofficiel
 depaimboeuf.com/events/foncedalle/
URL:https://lofficieldepaimboeuf.com/events/foncedalle/
END:VEVENT
END:VCALENDAR