BEGIN:VCALENDAR
VERSION:2.0
PRODID:-//eventon.com NONSGML v1.0//EN
CALSCALE:GREGORIAN
METHOD:PUBLISH
BEGIN:VEVENT
UID:69e7625741194
DTSTAMP:20260421T114111Z
DTSTART:20250523T210000Z
DTEND:20250523T223000Z
LOCATION:
SUMMARY:The Big Idea
DESCRIPTION:"Au fil de ses albums\,  The Big Idea ne cesse de gagner en pui
 ssance\,  et dâ€™enrichir son rock psychÃ©dÃ©lique. Au point de devenir lâ€
 ™une des meilleures formations rock en activitÃ© en France. Et bien au-delÃ
  .Â Ce nouveau disque â€“ aux allures dâ€™album-concept â€“ rÃ©ussit la syn
 thÃ¨se quasi parfaite entre le rock[..]\nhttps://lofficieldepaimboeuf.com/e
 vents/the-big-idea/
URL:https://lofficieldepaimboeuf.com/events/the-big-idea/
END:VEVENT
END:VCALENDAR