BEGIN:VCALENDAR
VERSION:2.0
PRODID:-//eventon.com NONSGML v1.0//EN
CALSCALE:GREGORIAN
METHOD:PUBLISH
BEGIN:VEVENT
UID:69e79552a8ab8
DTSTAMP:20260421T151842Z
DTSTART:20250612
DTEND:20250613
LOCATION:
SUMMARY:L'Étoile du Roy
DESCRIPTION:L’Étoile du Roy est une impressionnante réplique du HMS Bla
 ndford\,  une frégate britannique de 1745. Lancé en 1997 sous le nom de G
 rand Turk. Avec ses vingt canons et ses 46 mètres de long\,  il est l’un
 e des plus grandes répliques de frégate d’Europe. Basé à Saint-Malo\,
   il offre aujourd’hui[..]\nhttps://lofficieldepaimboeuf.com/events/letoi
 le-du-roy/
URL:https://lofficieldepaimboeuf.com/events/letoile-du-roy/
END:VEVENT
END:VCALENDAR