BEGIN:VCALENDAR
VERSION:2.0
PRODID:-//eventon.com NONSGML v1.0//EN
CALSCALE:GREGORIAN
METHOD:PUBLISH
BEGIN:VEVENT
UID:69e79afe6f47a
DTSTAMP:20260421T154254Z
DTSTART:20250727
DTEND:20250728
LOCATION:
SUMMARY:Éole en Musiques 2025
DESCRIPTION:Chaque année\,  Paimbœuf a la joie d’accueillir une quinzai
 ne de musiciens\,  solistes\,  lauréats de concours internationaux et memb
 res d’ensembles prestigieux venus de toute l’Europe. Réunis en bord de
  Loire\,  ils feront résonner cet été encore les plus belles œuvres de 
 la musique baroque\,  classique\,  romantique et contemporaine. Cette édit
 ion s’enrichira[..]\nhttps://lofficieldepaimboeuf.com/events/eole-en-musi
 ques-2025/
URL:https://lofficieldepaimboeuf.com/events/eole-en-musiques-2025/
END:VEVENT
END:VCALENDAR