BEGIN:VCALENDAR
VERSION:2.0
PRODID:-//eventon.com NONSGML v1.0//EN
CALSCALE:GREGORIAN
METHOD:PUBLISH
BEGIN:VEVENT
UID:69e762995209b
DTSTAMP:20260421T114217Z
DTSTART:20250627T203000Z
DTEND:20250627T214000Z
LOCATION:
SUMMARY:Pling-Klang
DESCRIPTION:Jongleurs\,  acrobates à vélo et manipulateurs d’objets\,  
 Étienne Manceau et Mathieu Despoisse se penchent avec humour sur la vaste 
 question : qu’est-ce qu’un couple ? Au sein d’une installation atyp
 ique\,  au plus près des spectatrices et des spectateurs\,  Pling-Klang 
 examine nos pratiques quotidiennes à travers quelques épreuves : monter u
 n meuble Ikea\,  jouer au[..]\nhttps://lofficieldepaimboeuf.com/events/plin
 g-klang/
URL:https://lofficieldepaimboeuf.com/events/pling-klang/
END:VEVENT
END:VCALENDAR