BEGIN:VCALENDAR
VERSION:2.0
PRODID:-//eventon.com NONSGML v1.0//EN
CALSCALE:GREGORIAN
METHOD:PUBLISH
BEGIN:VEVENT
UID:69e7956e7b343
DTSTAMP:20260421T151910Z
DTSTART:20250710T170000Z
DTEND:20250710T190000Z
LOCATION:
SUMMARY:PaimbÅ“ufÂ avant-port de lâ€™estuaire
DESCRIPTION:Histoire et patrimoineVÃ©ronique Mathot\,  confÃ©renciÃ¨re Ã  l
 a sociÃ©tÃ© des historiens du Pays de Retz\,  vous propose une visite guidÃ
 ©e de PaimbÅ“uf : "Courant au fil du fleuve sur prÃ¨s de deux kilomÃ¨tres c
 â€™est une longue ligne de maisons qui a donnÃ© forme et pittoresque au sit
 e de PaimbÅ“uf. Ces maisons[..]\nhttps://lofficieldepaimboeuf.com/events/pa
 imboeuf-avant-port-de-lestuaire/
URL:https://lofficieldepaimboeuf.com/events/paimboeuf-avant-port-de-lestuaire/
END:VEVENT
END:VCALENDAR