BEGIN:VCALENDAR
VERSION:2.0
PRODID:-//eventon.com NONSGML v1.0//EN
CALSCALE:GREGORIAN
METHOD:PUBLISH
BEGIN:VEVENT
UID:69e7629fa5d11
DTSTAMP:20260421T114223Z
DTSTART:20250614
DTEND:20250615
LOCATION:
SUMMARY:Loire 725 - arrivée
DESCRIPTION:La plus longue course de canoé\,  kayak\,  stand up paddle et 
 pirogue en Europe : 725 km en six étapes de Roanne à Paimbœuf\,  du 8 au
  14 juin 2025. Un évènement unique en Europe. L'arrivée officielle se fe
 ra sur la cale nautique de la pinède. Loire725.com\nhttps://lofficieldepai
 mboeuf.com/events/loire-725-arrivee/
URL:https://lofficieldepaimboeuf.com/events/loire-725-arrivee/
END:VEVENT
END:VCALENDAR