BEGIN:VCALENDAR
VERSION:2.0
PRODID:-//eventon.com NONSGML v1.0//EN
CALSCALE:GREGORIAN
METHOD:PUBLISH
BEGIN:VEVENT
UID:69e762583cdbd
DTSTAMP:20260421T114112Z
DTSTART:20250523T200000Z
DTEND:20250523T210000Z
LOCATION:
SUMMARY:Sygma
DESCRIPTION:Benjamin Goudedranche et Christophe Pouvreau forment le duo du 
 groupe Sygma. Mêlant accordéon\,  guitare et bombarde\,  ils vous feront 
 voyager dans un univers où la musique devient méditative.Dans l’évolut
 ion de leurs cultures traditionnelles\,  ils composent une musique envoutan
 te qui sollicite l’imagination du spectateur.Ils aiment jouer avec les di
 fférences de nuances[..]\nhttps://lofficieldepaimboeuf.com/events/sygma/
URL:https://lofficieldepaimboeuf.com/events/sygma/
END:VEVENT
END:VCALENDAR