BEGIN:VCALENDAR
VERSION:2.0
PRODID:-//eventon.com NONSGML v1.0//EN
CALSCALE:GREGORIAN
METHOD:PUBLISH
BEGIN:VEVENT
UID:69e76256db2ec
DTSTAMP:20260421T114110Z
DTSTART:20250822T203000Z
DTEND:20250822T220000Z
LOCATION:
SUMMARY:Farandole
DESCRIPTION:Duo rÃ©unissant Jean-Emmanuel Doucet Ã  la batterie / chÅ“urs e
 t SÃ©bastien Le Mentec Ã  la guitare / chant / orgue. FormÃ© en aoÃ»t 2024\
 ,  ils proposent une musique pop/folk Ã©lectrique Ã  tendance noise\,  intÃ
 ©grant quelques Ã©chappÃ©es plus expÃ©rimentales faites de nappes dâ€™orgue
 \,  de samples\,  de percussions et voix trafiquÃ©es.\nhttps://lofficieldep
 aimboeuf.com/events/farandole/
URL:https://lofficieldepaimboeuf.com/events/farandole/
END:VEVENT
END:VCALENDAR