BEGIN:VCALENDAR
VERSION:2.0
PRODID:-//eventon.com NONSGML v1.0//EN
CALSCALE:GREGORIAN
METHOD:PUBLISH
BEGIN:VEVENT
UID:69e763da5b138
DTSTAMP:20260421T114738Z
DTSTART:20250323T143000Z
DTEND:20250323T160000Z
LOCATION:
SUMMARY:13Arts fait son court
DESCRIPTION:Projection de courts mÃ©trage dans le cadre de La FÃªte du Cour
 t MÃ©trage ProgrammationJe sais que j'ai tort mais demandez Ã  mes copains 
 ils disent la mÃªme chose - 9' BusLine35A - 6'PrÃ©cieux - 14'- entracte -CÅ
 “ur bÃ©ton - 20'La linea - 3' Music for one Appartement ans six Drummers[..
 ]\nhttps://lofficieldepaimboeuf.com/events/le-court-chez-13arts/
URL:https://lofficieldepaimboeuf.com/events/le-court-chez-13arts/
END:VEVENT
END:VCALENDAR