BEGIN:VCALENDAR
VERSION:2.0
PRODID:-//eventon.com NONSGML v1.0//EN
CALSCALE:GREGORIAN
METHOD:PUBLISH
BEGIN:VEVENT
UID:69e76258ac40c
DTSTAMP:20260421T114112Z
DTSTART:20250315
DTEND:20250316
LOCATION:
SUMMARY:Valérie Blanchard & Jérôme Gourdon
DESCRIPTION:Valérie Blanchard - artiste-peintreValerie Blanchard\,  après
  une licence d’Arts Plastiques à l’Université de Rennes II\,  enseign
 e en collège à Pornic depuis 1989. Bien qu’elle crée depuis longtemps\
 ,  sa pratique est devenue plus intensive et expérimentale récemment. Ell
 e a exposé plusieurs fois dans la région. Depuis plus de seize ans\,  ell
 e[..]\nhttps://lofficieldepaimboeuf.com/events/valerie-blanchard-jerome-gou
 rdou/
URL:https://lofficieldepaimboeuf.com/events/valerie-blanchard-jerome-gourdou/
END:VEVENT
END:VCALENDAR