BEGIN:VCALENDAR
VERSION:2.0
PRODID:-//eventon.com NONSGML v1.0//EN
CALSCALE:GREGORIAN
METHOD:PUBLISH
BEGIN:VEVENT
UID:69e79587557dc
DTSTAMP:20260421T151935Z
DTSTART:20250228T200000Z
DTEND:20250228T213000Z
LOCATION:
SUMMARY:Gabriel Saglio Trio - complet
DESCRIPTION:Le chanteur Gabriel Saglio à la voix si caractéristique s’e
 ntoure du multi-instrumentiste nantais Pierre Thary et de l’accordéonist
 e Douglas Marcolino pour un concert aux frontières de la world music et de
  la chanson française. Gabriel Saglio nous livre avec ce trio des versions
  plus intimistes de ses chansons aux textes[..]\nhttps://lofficieldepaimboe
 uf.com/events/gabriel-saglio-trio-complet/
URL:https://lofficieldepaimboeuf.com/events/gabriel-saglio-trio-complet/
END:VEVENT
END:VCALENDAR