BEGIN:VCALENDAR
VERSION:2.0
PRODID:-//eventon.com NONSGML v1.0//EN
CALSCALE:GREGORIAN
METHOD:PUBLISH
BEGIN:VEVENT
UID:69e795cb46353
DTSTAMP:20260421T152043Z
DTSTART:20250215T130000Z
DTEND:20250215T235000Z
LOCATION:
SUMMARY:Tournoi de boxe
DESCRIPTION:Gala de boxe éducative en préparation des championnats dépar
 tementaux le 15 mars au Loroux Bottereau.Pesée de 11h à 12h.N'hésitez pa
 s à venir encourager nos minimes/cadets et\,  si vous êtes disponibles\, 
  à venir nous donner un coup de main. Nous avons toujours besoin pour le b
 ar\,  montage et démontage du ring\, [..]\nhttps://lofficieldepaimboeuf.co
 m/events/tournoi-de-boxe/
URL:https://lofficieldepaimboeuf.com/events/tournoi-de-boxe/
END:VEVENT
END:VCALENDAR