BEGIN:VCALENDAR
VERSION:2.0
PRODID:-//eventon.com NONSGML v1.0//EN
CALSCALE:GREGORIAN
METHOD:PUBLISH
BEGIN:VEVENT
UID:69e762b8a678c
DTSTAMP:20260421T114248Z
DTSTART:20250225T173000Z
DTEND:20250225T191500Z
LOCATION:
SUMMARY:Réseaux sociaux : trucs et astuces
DESCRIPTION:Soirée trucs et astuces sur le thème des réseaux sociaux av
 ec un intervenant de l'association Fragil pour échanger autour des usages 
 et des contenus des réseaux sociaux chez les enfants et les adolescents. G
 ratuit\,  sur inscription (02.40.27.51.77\,  secretariat@csc-mireillemoyon
 .fr) avec un mode de garde possible.Avec la Communauté de communes Sud Est
 uaire et l’association[..]\nhttps://lofficieldepaimboeuf.com/events/resea
 ux-sociaux-trucs-et-astuces/
URL:https://lofficieldepaimboeuf.com/events/reseaux-sociaux-trucs-et-astuces/
END:VEVENT
END:VCALENDAR