BEGIN:VCALENDAR
VERSION:2.0
PRODID:-//eventon.com NONSGML v1.0//EN
CALSCALE:GREGORIAN
METHOD:PUBLISH
BEGIN:VEVENT
UID:69e762fb80f33
DTSTAMP:20260421T114355Z
DTSTART:20250613T203000Z
DTEND:20250613T220000Z
LOCATION:
SUMMARY:LÄƒutarescu Anti-Social Club
DESCRIPTION:One man band impÃ©nitent\,  le LÄƒutarescu Anti-Social Club met
  ses pieds oÃ¹ il veut... et câ€™est souvent dans le plat. BiberonnÃ© aux m
 usiques traditionnelles de Roumanie et des Balkans\,  puis dopÃ© aux synthÃ
 ©s\,  boÃ®tes Ã  rythme et autres loop stations\,  le clan LÄƒutarescu reve
 nd sous le manteau une alliance contrefaite[..]\nhttps://lofficieldepaimboe
 uf.com/events/lautarescu-anti-social-club/
URL:https://lofficieldepaimboeuf.com/events/lautarescu-anti-social-club/
END:VEVENT
END:VCALENDAR