BEGIN:VCALENDAR
VERSION:2.0
PRODID:-//eventon.com NONSGML v1.0//EN
CALSCALE:GREGORIAN
METHOD:PUBLISH
BEGIN:VEVENT
UID:69e762515abe5
DTSTAMP:20260421T114105Z
DTSTART:20250208T190000Z
DTEND:20250208T235000Z
LOCATION:
SUMMARY:Dîner poétique
DESCRIPTION:Poésie avec Dominique Potier et son musicien."Quand souffle le
  vent\,  quand les hommes\,  les animaux\,  les plantes façonnent nos vies
 ."30 € sur réservation\nhttps://lofficieldepaimboeuf.com/events/diner-po
 etique/
URL:https://lofficieldepaimboeuf.com/events/diner-poetique/
END:VEVENT
END:VCALENDAR