BEGIN:VCALENDAR
VERSION:2.0
PRODID:-//eventon.com NONSGML v1.0//EN
CALSCALE:GREGORIAN
METHOD:PUBLISH
BEGIN:VEVENT
UID:69e76256d5ed9
DTSTAMP:20260421T114110Z
DTSTART:20250614T100000Z
DTEND:20250615T030000Z
LOCATION:
SUMMARY:DÃ©bord de Loire
DESCRIPTION:Ã‰vÃ©nement bisannuel nautique de lâ€™Estuaire de la Loire avec
  Ã  PaimbÅ“uf un enchaÃ®nement de propositions artistiques JournÃ©e encadrÃ
 ©e par l'association RÃ©sonance Toute la journÃ©e Quais de PaimbÅ“uf â€¢ Pe
 tites boÃ®tes\,  racontez-nous vos histoiresVoyage en miniature pour embarq
 uer petits et grands au travers dâ€™histoires qui donnent Ã  sâ€™Ã©vader. V
 enez avec un[..]\nhttps://lofficieldepaimboeuf.com/events/debord-de-loire/
URL:https://lofficieldepaimboeuf.com/events/debord-de-loire/
END:VEVENT
END:VCALENDAR