BEGIN:VCALENDAR
VERSION:2.0
PRODID:-//eventon.com NONSGML v1.0//EN
CALSCALE:GREGORIAN
METHOD:PUBLISH
BEGIN:VEVENT
UID:69e76251ed8e5
DTSTAMP:20260421T114105Z
DTSTART:20250124
DTEND:20250125
LOCATION:
SUMMARY:Expo photo
DESCRIPTION:La Galerie À Contre-Courant a été sollicitée par Esatco Atl
 antique acteur de l’économie sociale et solidaire et Horticat de Chaumes
 -en-Retz\,  jardinerie locale et solidaire\,  pour exposer le travail photo
 graphique de personnes en situation de handicap.Ouvert au public vendredis\
 ,  samedis et dimanches de 15 h à 19 h.\nhttps://lofficieldepaimboeuf.com/
 events/expo-photo/
URL:https://lofficieldepaimboeuf.com/events/expo-photo/
END:VEVENT
END:VCALENDAR