BEGIN:VCALENDAR
VERSION:2.0
PRODID:-//eventon.com NONSGML v1.0//EN
CALSCALE:GREGORIAN
METHOD:PUBLISH
BEGIN:VEVENT
UID:69e79560030fa
DTSTAMP:20260421T151856Z
DTSTART:20250427T160000Z
DTEND:20250427T170000Z
LOCATION:
SUMMARY:Clarisse Lavanant
DESCRIPTION:Après un premier album primé en 2002\,  l’auteure-compositr
 ice-interprète morlaisienne\,  qui a joué le rôle de Séphora dans Les D
 ix Commandements (Pascal Opisbo/Eli Chouraki)\,  se produira au sein de la 
 chapelle Saint-Charles.Avec treize albums à son actif et des collaboration
 s prestigieuses avec des artistes de la culture bretonne tels que Dan[..]\n
 https://lofficieldepaimboeuf.com/events/clarisse-lavanant/
URL:https://lofficieldepaimboeuf.com/events/clarisse-lavanant/
END:VEVENT
END:VCALENDAR