BEGIN:VCALENDAR
VERSION:2.0
PRODID:-//eventon.com NONSGML v1.0//EN
CALSCALE:GREGORIAN
METHOD:PUBLISH
BEGIN:VEVENT
UID:69e7629877daf
DTSTAMP:20260421T114216Z
DTSTART:20250413T160000Z
DTEND:20250413T170000Z
LOCATION:
SUMMARY:Artemisia
DESCRIPTION:​Ensemble baroque composé de deux traversos (flûtes travers
 ières baroques)\,  un clavecin et un violoncelle baroque. Laurence Copin e
 st d'abord pianiste\,  elle obtient un prix en piano et musique de chambre 
 auConservatoire de Nantes auprès de Jacques Delannoy. Claveciniste par la 
 suite\,  elle fonde en 2006 l'ensemble Artemisia avec Catherine Giardino[..
 ]\nhttps://lofficieldepaimboeuf.com/events/quatuor-artemisia/
URL:https://lofficieldepaimboeuf.com/events/quatuor-artemisia/
END:VEVENT
END:VCALENDAR