BEGIN:VCALENDAR
VERSION:2.0
PRODID:-//eventon.com NONSGML v1.0//EN
CALSCALE:GREGORIAN
METHOD:PUBLISH
BEGIN:VEVENT
UID:69e7621dc3ff5
DTSTAMP:20260421T114013Z
DTSTART:20250308T190000Z
DTEND:20250308T225000Z
LOCATION:
SUMMARY:Prêcheresse
DESCRIPTION:Première de ce troisième seul-en-scène de Carine Cottineau."
 Toutes les voix spirituelles partent du principe qu’il y a un écart entr
 e ce que nous vivons et qui nous sommes\,  c’est-à-dire entre notre cond
 ition finie et notre nature infinie. Cet écart serait la cause de notre so
 uffrance."Hors de tout dogme\,  ce seul-en-scène[..]\nhttps://lofficieldep
 aimboeuf.com/events/precheresse/
URL:https://lofficieldepaimboeuf.com/events/precheresse/
END:VEVENT
END:VCALENDAR