BEGIN:VCALENDAR
VERSION:2.0
PRODID:-//eventon.com NONSGML v1.0//EN
CALSCALE:GREGORIAN
METHOD:PUBLISH
BEGIN:VEVENT
UID:69e762518093d
DTSTAMP:20260421T114105Z
DTSTART:20250307T193000Z
DTEND:20250307T210000Z
LOCATION:
SUMMARY:Rebecca
DESCRIPTION:À l’occasion de la Journée Internationale des droits des fe
 mmes\,  le Centre communal d’action sociale (CCAS) renouvelle son invitat
 ion à l’attention des femmes de la commune. Au programme cette année\, 
  un concert de duo de reprises en guitare/voix par l’artiste Rebecca acco
 mpagnée de son guitariste.\nhttps://lofficieldepaimboeuf.com/events/rebecc
 a/
URL:https://lofficieldepaimboeuf.com/events/rebecca/
END:VEVENT
END:VCALENDAR