BEGIN:VCALENDAR
VERSION:2.0
PRODID:-//eventon.com NONSGML v1.0//EN
CALSCALE:GREGORIAN
METHOD:PUBLISH
BEGIN:VEVENT
UID:69e7624f91fce
DTSTAMP:20260421T114103Z
DTSTART:20250111T143000Z
DTEND:20250111T160000Z
LOCATION:
SUMMARY:Mashup
DESCRIPTION:Le mashup consiste Ã  crÃ©er une nouvelle Å“uvre Ã  partir dâ€™
 images et de sons prÃ©existants. Ã€ partir dâ€™un corpus dâ€™images de la L
 oire\,  la table mashup permet de sâ€™essayer Ã  lâ€™exercice du montage. Â
  Atelier tous publics\,  animÃ© par Bruno Bouchard et Yan Rambaud. Â  Progr
 amme complet des Rencontres du Film[..]\nhttps://lofficieldepaimboeuf.com/e
 vents/mashup/
URL:https://lofficieldepaimboeuf.com/events/mashup/
END:VEVENT
END:VCALENDAR