BEGIN:VCALENDAR
VERSION:2.0
PRODID:-//eventon.com NONSGML v1.0//EN
CALSCALE:GREGORIAN
METHOD:PUBLISH
BEGIN:VEVENT
UID:69e7956eee2b8
DTSTAMP:20260421T151910Z
DTSTART:20250111T111500Z
DTEND:20250111T124500Z
LOCATION:
SUMMARY:Où sont nos amoureuses
DESCRIPTION:Projection-rencontre avec Robin Hunzinger Emma et Thérèse\,  
 étudiantes puis professeures dans les années 1930\,  tentent de construir
 e ensemble une vie à la fois engagée et amoureuse… Mais l’Histoire le
 s prend au piège. Une quête menée par le petit-fils d’Emma pour rassem
 bler les morceaux de deux destins brisés par la guerre.[..]\nhttps://loffi
 cieldepaimboeuf.com/events/ou-sont-nos-amoureuses/
URL:https://lofficieldepaimboeuf.com/events/ou-sont-nos-amoureuses/
END:VEVENT
END:VCALENDAR