BEGIN:VCALENDAR
VERSION:2.0
PRODID:-//eventon.com NONSGML v1.0//EN
CALSCALE:GREGORIAN
METHOD:PUBLISH
BEGIN:VEVENT
UID:69e76251a1f6c
DTSTAMP:20260421T114105Z
DTSTART:20250111T163000Z
DTEND:20250111T180000Z
LOCATION:
SUMMARY:Anatomie lega
DESCRIPTION:Projection-rencontre avec Bruno Bouchard "Je suis parti sous un
  orage et une pluie battante\,  un jour de juillet\,  pour faire sa connais
 sance\,  la découvrir\,  parcourir son anatomie\,  j’ai glissé sur elle
 \,  et vers les moindres recoins de son immensité liquide… Je vous invit
 e à descendre son courant à travers son[..]\nhttps://lofficieldepaimboeuf
 .com/events/anatomie-lega/
URL:https://lofficieldepaimboeuf.com/events/anatomie-lega/
END:VEVENT
END:VCALENDAR