BEGIN:VCALENDAR
VERSION:2.0
PRODID:-//eventon.com NONSGML v1.0//EN
CALSCALE:GREGORIAN
METHOD:PUBLISH
BEGIN:VEVENT
UID:69e796acaf3fe
DTSTAMP:20260421T152428Z
DTSTART:20250111T203000Z
DTEND:20250111T220000Z
LOCATION:
SUMMARY:Je reviens dans cinq minutes
DESCRIPTION:Projection-rencontre avec Fantazio Ivan est professeur à la re
 traite. Il a connu la lutte armée dès l’âge de treize ans. Il n’en p
 arle jamais. "J’aimerais lui faire sortir de son crâne tout ce qu’il s
 ait\,  enregistrer la fumée de tout ce qu’il pense\,  l’entendre rire 
 très doucement\,  petit souffle…" Pour[..]\nhttps://lofficieldepaimboeuf
 .com/events/je-reviens-dans-cinq-minutes/
URL:https://lofficieldepaimboeuf.com/events/je-reviens-dans-cinq-minutes/
END:VEVENT
END:VCALENDAR