BEGIN:VCALENDAR
VERSION:2.0
PRODID:-//eventon.com NONSGML v1.0//EN
CALSCALE:GREGORIAN
METHOD:PUBLISH
BEGIN:VEVENT
UID:69e7956d21716
DTSTAMP:20260421T151909Z
DTSTART:20250112T111500Z
DTEND:20250112T124500Z
LOCATION:
SUMMARY:Retour à Reims [Fragments]
DESCRIPTION:Projection-rencontre avec Jean-Gabriel Periot À travers le tex
 te de Didier Eribon interprété par Adèle Haenel\,  Retour à Reims [Frag
 ments] raconte en archives une histoire intime et politique du monde ouvrie
 r français du début des années&nbsp;cinquate à aujourd’hui. Entrée 5
  €\nhttps://lofficieldepaimboeuf.com/events/retour-a-reims-fragments/
URL:https://lofficieldepaimboeuf.com/events/retour-a-reims-fragments/
END:VEVENT
END:VCALENDAR