BEGIN:VCALENDAR
VERSION:2.0
PRODID:-//eventon.com NONSGML v1.0//EN
CALSCALE:GREGORIAN
METHOD:PUBLISH
BEGIN:VEVENT
UID:69e79845ba738
DTSTAMP:20260421T153117Z
DTSTART:20250112T150000Z
DTEND:20250112T163000Z
LOCATION:
SUMMARY:Ã€ bord du Claire-Jeanne
DESCRIPTION:Projection-rencontre avec Emmanuelle Pencalet Jean Pencalet\,  
 comme beaucoup dâ€™autres marins\,  a filmÃ© sa vie de travail Ã  bord du C
 laire-Jeanne\,  un langoustier quâ€™il a commandÃ© pendant treize&nbsp;ansâ
 €‰. Le Port-MusÃ©e de Douarnenez et Daoulagad Breizh dÃ©cident de valoriser
  ses films. Ils proposent le montage Ã  Emmanuelle Pencalet qui filme et in
 terroge[..]\nhttps://lofficieldepaimboeuf.com/events/a-bord-du-claire-jeann
 e/
URL:https://lofficieldepaimboeuf.com/events/a-bord-du-claire-jeanne/
END:VEVENT
END:VCALENDAR