BEGIN:VCALENDAR
VERSION:2.0
PRODID:-//eventon.com NONSGML v1.0//EN
CALSCALE:GREGORIAN
METHOD:PUBLISH
BEGIN:VEVENT
UID:69e7629905f12
DTSTAMP:20260421T114217Z
DTSTART:20250112T190000Z
DTEND:20250112T203000Z
LOCATION:
SUMMARY:360Â° Nord - Racleurs dâ€™ocÃ©ans
DESCRIPTION:De Anita Conti\,  mis en musique par Carla Pallone De juillet Ã
   dÃ©cembre 1952\,  Anita Conti part avec soixante hommes sur les bancs de 
 Terre-Neuve pour observer et tÃ©moigner du mÃ©tier de pÃªcheur Ã  la morue.
  Elle Ã©crit et elle filme. Elle publiera Ã  son retour Racleurs dâ€™ocÃ©an
 s. Le film[..]\nhttps://lofficieldepaimboeuf.com/events/360-nord-racleurs-d
 oceans/
URL:https://lofficieldepaimboeuf.com/events/360-nord-racleurs-doceans/
END:VEVENT
END:VCALENDAR