BEGIN:VCALENDAR
VERSION:2.0
PRODID:-//eventon.com NONSGML v1.0//EN
CALSCALE:GREGORIAN
METHOD:PUBLISH
BEGIN:VEVENT
UID:69e762996bb60
DTSTAMP:20260421T114217Z
DTSTART:20250110T203000Z
DTEND:20250110T220000Z
LOCATION:
SUMMARY:Peuple Fiction
DESCRIPTION:Fantazio et Francesco Pastacaldi se rencontrent à Paris au dé
 but des années 2000. Ils entament une collaboration qui donnera lieu à pl
 us de mille concerts à travers l’Europe\,  mêlant énergie disco-punk e
 t improvisation musicale. Leurs explorations les mènent à multiplier les 
 collaborations jusqu’à leur rencontre avec Yurie Hu\,  qui\,  sur[..]\nh
 ttps://lofficieldepaimboeuf.com/events/peuple-fiction/
URL:https://lofficieldepaimboeuf.com/events/peuple-fiction/
END:VEVENT
END:VCALENDAR