BEGIN:VCALENDAR
VERSION:2.0
PRODID:-//eventon.com NONSGML v1.0//EN
CALSCALE:GREGORIAN
METHOD:PUBLISH
BEGIN:VEVENT
UID:69e762588ed08
DTSTAMP:20260421T114112Z
DTSTART:20250111T180000Z
DTEND:20250111T190000Z
LOCATION:
SUMMARY:PaimbÅ“uf en archives
DESCRIPTION:Deux archives filmiques inÃ©dites de PaimbÅ“uf : PrÃ©ludes et R
 Ã©gates\,  de Michel Ballu (cinÃ©-club de PaimbÅ“uf)Kino rÃ©tro : courts-mÃ
 ©trages rÃ©alisÃ©s Ã  partir des collections dâ€™archives Ciclic Centre-Val
  de Loire et de la CinÃ©mathÃ¨que de BretagneEntrÃ©e libre Programme comple
 t des Rencontres du Film dâ€™Archives au CinÃ©maÃ‰vÃ©nement Ã  lâ€™initiati
 ve de La BoÃ®te[..]\nhttps://lofficieldepaimboeuf.com/events/paimboeuf-en-a
 rchives/
URL:https://lofficieldepaimboeuf.com/events/paimboeuf-en-archives/
END:VEVENT
END:VCALENDAR