BEGIN:VCALENDAR
VERSION:2.0
PRODID:-//eventon.com NONSGML v1.0//EN
CALSCALE:GREGORIAN
METHOD:PUBLISH
BEGIN:VEVENT
UID:69e795d75f6d0
DTSTAMP:20260421T152055Z
DTSTART:20250112T170000Z
DTEND:20250112T180000Z
LOCATION:
SUMMARY:L’Archive dans le sonore
DESCRIPTION:L’archive se rencontre également dans la création sonore\, 
  utilisée à des fins documentaires\,  narratives ou poétiques. Écoute c
 ollective de pièces sonores utilisant l’archive radiophonique\,  audiovi
 suelle ou théâtrale : carte blanche à Asu\,  Association Sonore et Utopi
 que.Programme de l’écoute (pdf)Durée : 1h – entrée libre Programme c
 omplet des Rencontres du Film[..]\nhttps://lofficieldepaimboeuf.com/events/
 larchive-dans-le-sonore/
URL:https://lofficieldepaimboeuf.com/events/larchive-dans-le-sonore/
END:VEVENT
END:VCALENDAR